Package: OutSplice Version: 1.8.0 Command: /Library/Frameworks/R.framework/Resources/bin/R CMD build --keep-empty-dirs --no-resave-data OutSplice StartedAt: 2025-10-03 06:05:21 -0400 (Fri, 03 Oct 2025) EndedAt: 2025-10-03 06:06:59 -0400 (Fri, 03 Oct 2025) EllapsedTime: 98.3 seconds RetCode: 0 Status: OK PackageFile: OutSplice_1.8.0.tar.gz PackageFileSize: 3.863 MiB