Package: OutSplice Version: 1.8.0 Maintainer: Theresa Guo MaintainerEmail: twguo at health.ucsd.edu git_url: https://git.bioconductor.org/packages/OutSplice git_branch: RELEASE_3_21 git_last_commit: dfced8d git_last_commit_date: 2025-04-15 13:14:53 -0400 (Tue, 15 Apr 2025)