Package: Oscope Version: 1.40.0 Command: /home/biocbuild/bbs-3.22-bioc/R/bin/R CMD build --keep-empty-dirs --no-resave-data --md5 Oscope StartedAt: 2025-11-11 19:14:54 -0500 (Tue, 11 Nov 2025) EndedAt: 2025-11-11 19:17:37 -0500 (Tue, 11 Nov 2025) EllapsedTime: 163.2 seconds RetCode: 0 Status: OK PackageFile: Oscope_1.40.0.tar.gz PackageFileSize: 1.161 MiB