Package: Oscope Version: 1.38.0 Command: /home/biocbuild/bbs-3.21-bioc/R/bin/R CMD build --keep-empty-dirs --no-resave-data Oscope StartedAt: 2025-10-15 18:59:46 -0400 (Wed, 15 Oct 2025) EndedAt: 2025-10-15 19:02:34 -0400 (Wed, 15 Oct 2025) EllapsedTime: 167.2 seconds RetCode: 0 Status: OK PackageFile: Oscope_1.38.0.tar.gz PackageFileSize: 1.16 MiB