Package: Oscope Version: 1.38.0 Command: /home/biocbuild/R/R/bin/R CMD INSTALL Oscope StartedAt: 2025-10-02 20:22:49 -0000 (Thu, 02 Oct 2025) EndedAt: 2025-10-02 20:22:59 -0000 (Thu, 02 Oct 2025) EllapsedTime: 10.1 seconds RetCode: 0 Status: OK