Package: Oscope Version: 1.38.0 Command: /home/biocbuild/R/R/bin/R CMD build --keep-empty-dirs --no-resave-data Oscope StartedAt: 2025-10-03 03:17:12 -0000 (Fri, 03 Oct 2025) EndedAt: 2025-10-03 03:21:02 -0000 (Fri, 03 Oct 2025) EllapsedTime: 229.7 seconds RetCode: 0 Status: OK PackageFile: Oscope_1.38.0.tar.gz PackageFileSize: 1.151 MiB