Package: Oscope Version: 1.38.0 Command: /Library/Frameworks/R.framework/Resources/bin/R CMD build --keep-empty-dirs --no-resave-data Oscope StartedAt: 2025-10-14 06:08:56 -0400 (Tue, 14 Oct 2025) EndedAt: 2025-10-14 06:11:01 -0400 (Tue, 14 Oct 2025) EllapsedTime: 125.2 seconds RetCode: 0 Status: OK PackageFile: Oscope_1.38.0.tar.gz PackageFileSize: 1.16 MiB