Package: Oscope Version: 1.40.0 Maintainer: Ning Leng MaintainerEmail: lengning1 at gmail.com git_url: https://git.bioconductor.org/packages/Oscope git_branch: RELEASE_3_22 git_last_commit: 2767f6a git_last_commit_date: 2025-10-29 10:27:05 -0400 (Wed, 29 Oct 2025)