Package: OrganismDbi Version: 1.52.0 Command: /home/biocbuild/bbs-3.22-bioc/R/bin/R CMD INSTALL OrganismDbi StartedAt: 2025-10-31 15:50:53 -0400 (Fri, 31 Oct 2025) EndedAt: 2025-10-31 15:51:34 -0400 (Fri, 31 Oct 2025) EllapsedTime: 40.6 seconds RetCode: 0 Status: OK