Package: Organism.dplyr Version: 1.38.0 Command: /home/biocbuild/bbs-3.22-bioc/R/bin/R CMD INSTALL Organism.dplyr StartedAt: 2025-11-11 15:44:09 -0500 (Tue, 11 Nov 2025) EndedAt: 2025-11-11 15:44:47 -0500 (Tue, 11 Nov 2025) EllapsedTime: 38.5 seconds RetCode: 0 Status: OK