Package: Organism.dplyr Version: 1.38.0 Command: /home/biocbuild/bbs-3.22-bioc/R/bin/R CMD check --install=check:Organism.dplyr.install-out.txt --library=/home/biocbuild/bbs-3.22-bioc/R/site-library --timings Organism.dplyr_1.38.0.tar.gz StartedAt: 2025-11-15 02:39:51 -0500 (Sat, 15 Nov 2025) EndedAt: 2025-11-15 02:50:19 -0500 (Sat, 15 Nov 2025) EllapsedTime: 628.0 seconds RetCode: 1 Status: ERROR CheckDir: Organism.dplyr.Rcheck Warnings: NA