Package: Organism.dplyr Version: 1.38.0 Command: /Library/Frameworks/R.framework/Resources/bin/R CMD build --keep-empty-dirs --no-resave-data Organism.dplyr StartedAt: 2025-10-30 17:59:15 -0400 (Thu, 30 Oct 2025) EndedAt: 2025-10-30 18:00:53 -0400 (Thu, 30 Oct 2025) EllapsedTime: 98.1 seconds RetCode: 0 Status: OK PackageFile: Organism.dplyr_1.38.0.tar.gz PackageFileSize: 527.6 KiB