Package: Organism.dplyr Version: 1.36.0 Command: rm -rf Organism.dplyr.buildbin-libdir && mkdir Organism.dplyr.buildbin-libdir && /Users/biocbuild/BBS/utils/build-universal.sh Organism.dplyr_1.36.0.tar.gz /Library/Frameworks/R.framework/Resources/bin/R Organism.dplyr.buildbin-libdir StartedAt: 2025-04-22 00:59:13 -0400 (Tue, 22 Apr 2025) EndedAt: 2025-04-22 01:00:08 -0400 (Tue, 22 Apr 2025) EllapsedTime: 54.5 seconds RetCode: 0 Status: OK PackageFile: Organism.dplyr_1.36.0.tgz PackageFileSize: 890.7 KiB