Package: Organism.dplyr Version: 1.36.0 Command: /home/biocbuild/R/R/bin/R CMD INSTALL Organism.dplyr StartedAt: 2025-10-13 20:54:24 -0000 (Mon, 13 Oct 2025) EndedAt: 2025-10-13 20:55:21 -0000 (Mon, 13 Oct 2025) EllapsedTime: 57.2 seconds RetCode: 0 Status: OK