Package: Organism.dplyr Version: 1.36.0 Command: /home/biocbuild/R/R/bin/R CMD build --keep-empty-dirs --no-resave-data Organism.dplyr StartedAt: 2025-10-14 03:15:34 -0000 (Tue, 14 Oct 2025) EndedAt: 2025-10-14 03:17:53 -0000 (Tue, 14 Oct 2025) EllapsedTime: 138.9 seconds RetCode: 0 Status: OK PackageFile: Organism.dplyr_1.36.0.tar.gz PackageFileSize: 559.3 KiB