Package: OrderedList Version: 1.82.0 Command: /home/biocbuild/bbs-3.22-bioc/R/bin/R CMD check --install=check:OrderedList.install-out.txt --library=/home/biocbuild/bbs-3.22-bioc/R/site-library --timings OrderedList_1.82.0.tar.gz StartedAt: 2025-11-18 06:50:12 -0500 (Tue, 18 Nov 2025) EndedAt: 2025-11-18 06:52:11 -0500 (Tue, 18 Nov 2025) EllapsedTime: 119.1 seconds RetCode: 0 Status: OK CheckDir: OrderedList.Rcheck Warnings: 0