Package: OrderedList Version: 1.82.0 Command: /home/biocbuild/bbs-3.22-bioc/R/bin/R CMD build --keep-empty-dirs --no-resave-data --md5 OrderedList StartedAt: 2025-11-11 19:13:30 -0500 (Tue, 11 Nov 2025) EndedAt: 2025-11-11 19:15:08 -0500 (Tue, 11 Nov 2025) EllapsedTime: 97.1 seconds RetCode: 0 Status: OK PackageFile: OrderedList_1.82.0.tar.gz PackageFileSize: 1.057 MiB