Package: OrderedList Version: 1.82.0 Command: /Library/Frameworks/R.framework/Resources/bin/R CMD INSTALL OrderedList StartedAt: 2025-11-03 15:19:20 -0500 (Mon, 03 Nov 2025) EndedAt: 2025-11-03 15:19:29 -0500 (Mon, 03 Nov 2025) EllapsedTime: 8.4 seconds RetCode: 0 Status: OK