Package: OrderedList Version: 1.82.0 Command: rm -rf OrderedList.buildbin-libdir && mkdir OrderedList.buildbin-libdir && /Users/biocbuild/BBS/utils/build-universal.sh OrderedList_1.82.0.tar.gz /Library/Frameworks/R.framework/Resources/bin/R OrderedList.buildbin-libdir StartedAt: 2025-11-04 01:54:35 -0500 (Tue, 04 Nov 2025) EndedAt: 2025-11-04 01:54:43 -0500 (Tue, 04 Nov 2025) EllapsedTime: 8.1 seconds RetCode: 0 Status: OK PackageFile: OrderedList_1.82.0.tgz PackageFileSize: 1.11 MiB