Package: OrderedList Version: 1.80.0 Command: /home/biocbuild/R/R/bin/R CMD INSTALL OrderedList StartedAt: 2025-10-13 20:24:32 -0000 (Mon, 13 Oct 2025) EndedAt: 2025-10-13 20:24:37 -0000 (Mon, 13 Oct 2025) EllapsedTime: 5.3 seconds RetCode: 0 Status: OK