Package: OrderedList Version: 1.80.0 Command: /home/biocbuild/R/R/bin/R CMD build --keep-empty-dirs --no-resave-data OrderedList StartedAt: 2025-10-14 03:14:55 -0000 (Tue, 14 Oct 2025) EndedAt: 2025-10-14 03:16:43 -0000 (Tue, 14 Oct 2025) EllapsedTime: 108.2 seconds RetCode: 0 Status: OK PackageFile: OrderedList_1.80.0.tar.gz PackageFileSize: 1.042 MiB