Package: OrderedList Version: 1.82.0 Command: /Library/Frameworks/R.framework/Resources/bin/R CMD INSTALL OrderedList StartedAt: 2025-11-20 16:23:30 -0500 (Thu, 20 Nov 2025) EndedAt: 2025-11-20 16:23:34 -0500 (Thu, 20 Nov 2025) EllapsedTime: 4.8 seconds RetCode: 0 Status: OK