Package: OrderedList Version: 1.82.0 Command: /Library/Frameworks/R.framework/Resources/bin/R CMD build --keep-empty-dirs --no-resave-data OrderedList StartedAt: 2025-11-21 06:44:02 -0500 (Fri, 21 Nov 2025) EndedAt: 2025-11-21 06:45:46 -0500 (Fri, 21 Nov 2025) EllapsedTime: 103.8 seconds RetCode: 0 Status: OK PackageFile: OrderedList_1.82.0.tar.gz PackageFileSize: 1.052 MiB