Package: OpenStats Version: 1.22.0 Command: /home/biocbuild/R/R/bin/R CMD INSTALL OpenStats StartedAt: 2025-11-13 21:14:11 -0000 (Thu, 13 Nov 2025) EndedAt: 2025-11-13 21:14:43 -0000 (Thu, 13 Nov 2025) EllapsedTime: 31.6 seconds RetCode: 0 Status: OK