Package: OpenStats Version: 1.20.0 Command: /home/biocbuild/bbs-3.21-bioc/R/bin/R CMD INSTALL OpenStats StartedAt: 2025-10-05 15:09:30 -0400 (Sun, 05 Oct 2025) EndedAt: 2025-10-05 15:09:49 -0400 (Sun, 05 Oct 2025) EllapsedTime: 18.6 seconds RetCode: 0 Status: OK