Package: OpenStats Version: 1.20.0 Command: /home/biocbuild/bbs-3.21-bioc/R/bin/R CMD build --keep-empty-dirs --no-resave-data OpenStats StartedAt: 2025-10-05 18:59:03 -0400 (Sun, 05 Oct 2025) EndedAt: 2025-10-05 18:59:28 -0400 (Sun, 05 Oct 2025) EllapsedTime: 25.0 seconds RetCode: 0 Status: OK PackageFile: OpenStats_1.20.0.tar.gz PackageFileSize: 576.2 KiB