Package: OpenStats Version: 1.22.0 Command: /Library/Frameworks/R.framework/Resources/bin/R CMD INSTALL OpenStats StartedAt: 2025-11-20 16:01:34 -0500 (Thu, 20 Nov 2025) EndedAt: 2025-11-20 16:02:04 -0500 (Thu, 20 Nov 2025) EllapsedTime: 29.8 seconds RetCode: 0 Status: OK