Package: OpenStats Version: 1.22.0 Command: /Library/Frameworks/R.framework/Resources/bin/R CMD build --keep-empty-dirs --no-resave-data OpenStats StartedAt: 2025-11-20 22:20:36 -0500 (Thu, 20 Nov 2025) EndedAt: 2025-11-20 22:21:36 -0500 (Thu, 20 Nov 2025) EllapsedTime: 59.7 seconds RetCode: 0 Status: OK PackageFile: OpenStats_1.22.0.tar.gz PackageFileSize: 600.2 KiB