Package: OpenStats Version: 1.20.0 Command: /Library/Frameworks/R.framework/Resources/bin/R CMD build --keep-empty-dirs --no-resave-data OpenStats StartedAt: 2025-10-07 06:15:37 -0400 (Tue, 07 Oct 2025) EndedAt: 2025-10-07 06:16:16 -0400 (Tue, 07 Oct 2025) EllapsedTime: 39.1 seconds RetCode: 0 Status: OK PackageFile: OpenStats_1.20.0.tar.gz PackageFileSize: 600.7 KiB