Package: OpenStats Version: 1.20.0 Command: rm -rf OpenStats.buildbin-libdir && mkdir OpenStats.buildbin-libdir && /Users/biocbuild/BBS/utils/build-universal.sh OpenStats_1.20.0.tar.gz /Library/Frameworks/R.framework/Resources/bin/R OpenStats.buildbin-libdir StartedAt: 2025-10-08 22:10:13 -0400 (Wed, 08 Oct 2025) EndedAt: 2025-10-08 22:10:35 -0400 (Wed, 08 Oct 2025) EllapsedTime: 21.8 seconds RetCode: 0 Status: OK PackageFile: OpenStats_1.20.0.tgz PackageFileSize: 916.4 KiB