Package: OncoSimulR Version: 4.12.0 Command: /home/biocbuild/R/R/bin/R CMD INSTALL OncoSimulR StartedAt: 2025-11-13 21:21:14 -0000 (Thu, 13 Nov 2025) EndedAt: 2025-11-13 21:25:15 -0000 (Thu, 13 Nov 2025) EllapsedTime: 240.9 seconds RetCode: 0 Status: OK