Package: OncoSimulR Version: 4.12.0 Command: /home/biocbuild/R/R/bin/R CMD build --keep-empty-dirs --no-resave-data OncoSimulR StartedAt: 2025-11-14 03:54:38 -0000 (Fri, 14 Nov 2025) EndedAt: 2025-11-14 04:02:20 -0000 (Fri, 14 Nov 2025) EllapsedTime: 462.3 seconds RetCode: 0 Status: OK PackageFile: OncoSimulR_4.12.0.tar.gz PackageFileSize: 5.212 MiB