Package: OncoSimulR Version: 4.12.0 Command: /home/biocbuild/bbs-3.22-bioc/R/bin/R CMD INSTALL OncoSimulR StartedAt: 2025-11-11 15:19:07 -0500 (Tue, 11 Nov 2025) EndedAt: 2025-11-11 15:21:39 -0500 (Tue, 11 Nov 2025) EllapsedTime: 152.2 seconds RetCode: 0 Status: OK