Package: OncoSimulR Version: 4.12.0 Command: /home/biocbuild/bbs-3.22-bioc/R/bin/R CMD check --install=check:OncoSimulR.install-out.txt --library=/home/biocbuild/bbs-3.22-bioc/R/site-library --timings OncoSimulR_4.12.0.tar.gz StartedAt: 2025-11-12 02:20:29 -0500 (Wed, 12 Nov 2025) EndedAt: 2025-11-12 02:26:55 -0500 (Wed, 12 Nov 2025) EllapsedTime: 385.5 seconds RetCode: 0 Status: OK CheckDir: OncoSimulR.Rcheck Warnings: 0