Package: OncoSimulR Version: 4.12.0 Command: /home/biocbuild/bbs-3.22-bioc/R/bin/R CMD build --keep-empty-dirs --no-resave-data --md5 OncoSimulR StartedAt: 2025-11-11 19:12:32 -0500 (Tue, 11 Nov 2025) EndedAt: 2025-11-11 19:19:00 -0500 (Tue, 11 Nov 2025) EllapsedTime: 387.4 seconds RetCode: 0 Status: OK PackageFile: OncoSimulR_4.12.0.tar.gz PackageFileSize: 8.39 MiB