Package: OncoSimulR Version: 4.10.0 Command: /home/biocbuild/bbs-3.21-bioc/R/bin/R CMD INSTALL OncoSimulR StartedAt: 2025-10-05 15:14:28 -0400 (Sun, 05 Oct 2025) EndedAt: 2025-10-05 15:17:03 -0400 (Sun, 05 Oct 2025) EllapsedTime: 154.7 seconds RetCode: 0 Status: OK