Package: OncoSimulR Version: 4.10.0 Command: /home/biocbuild/bbs-3.21-bioc/R/bin/R CMD build --keep-empty-dirs --no-resave-data OncoSimulR StartedAt: 2025-10-08 18:56:42 -0400 (Wed, 08 Oct 2025) EndedAt: 2025-10-08 19:03:13 -0400 (Wed, 08 Oct 2025) EllapsedTime: 391.5 seconds RetCode: 0 Status: OK PackageFile: OncoSimulR_4.10.0.tar.gz PackageFileSize: 8.29 MiB