Package: OncoSimulR Version: 4.10.0 Command: /Library/Frameworks/R.framework/Resources/bin/R CMD build --keep-empty-dirs --no-resave-data OncoSimulR StartedAt: 2025-10-13 21:15:34 -0400 (Mon, 13 Oct 2025) EndedAt: 2025-10-13 21:27:52 -0400 (Mon, 13 Oct 2025) EllapsedTime: 737.9 seconds RetCode: 0 Status: OK PackageFile: OncoSimulR_4.10.0.tar.gz PackageFileSize: 9.138 MiB