Package: OncoSimulR Version: 4.10.0 Command: rm -rf OncoSimulR.buildbin-libdir && mkdir OncoSimulR.buildbin-libdir && /Users/biocbuild/BBS/utils/build-universal.sh OncoSimulR_4.10.0.tar.gz /Library/Frameworks/R.framework/Resources/bin/R OncoSimulR.buildbin-libdir StartedAt: 2025-10-14 14:18:12 -0400 (Tue, 14 Oct 2025) EndedAt: 2025-10-14 14:24:12 -0400 (Tue, 14 Oct 2025) EllapsedTime: 359.8 seconds RetCode: 0 Status: OK PackageFile: OncoSimulR_4.10.0.tgz PackageFileSize: 9.535 MiB