Package: OncoSimulR Version: 4.10.0 Command: rm -rf OncoSimulR.buildbin-libdir && mkdir OncoSimulR.buildbin-libdir && /Users/biocbuild/BBS/utils/build-universal.sh OncoSimulR_4.10.0.tar.gz /Library/Frameworks/R.framework/Resources/bin/R OncoSimulR.buildbin-libdir StartedAt: 2025-04-22 00:58:55 -0400 (Tue, 22 Apr 2025) EndedAt: 2025-04-22 01:01:43 -0400 (Tue, 22 Apr 2025) EllapsedTime: 167.6 seconds RetCode: 0 Status: OK PackageFile: OncoSimulR_4.10.0.tgz PackageFileSize: 9.539 MiB