Package: OncoSimulR Version: 4.12.0 Maintainer: Ramon Diaz-Uriarte MaintainerEmail: rdiaz02 at gmail.com git_url: https://git.bioconductor.org/packages/OncoSimulR git_branch: RELEASE_3_22 git_last_commit: 0528208 git_last_commit_date: 2025-10-29 10:20:29 -0400 (Wed, 29 Oct 2025)