Package: OncoScore Version: 1.38.0 Command: /home/biocbuild/R/R/bin/R CMD INSTALL OncoScore StartedAt: 2025-11-10 22:09:41 -0000 (Mon, 10 Nov 2025) EndedAt: 2025-11-10 22:10:00 -0000 (Mon, 10 Nov 2025) EllapsedTime: 18.9 seconds RetCode: 0 Status: OK