Package: OncoScore Version: 1.38.0 Command: /home/biocbuild/R/R/bin/R CMD build --keep-empty-dirs --no-resave-data OncoScore StartedAt: 2025-11-11 03:52:12 -0000 (Tue, 11 Nov 2025) EndedAt: 2025-11-11 03:54:10 -0000 (Tue, 11 Nov 2025) EllapsedTime: 118.0 seconds RetCode: 0 Status: OK PackageFile: OncoScore_1.38.0.tar.gz PackageFileSize: 835.2 KiB