Package: OncoScore Version: 1.37.0 Command: rm -rf OncoScore.buildbin-libdir && mkdir OncoScore.buildbin-libdir && F:\biocbuild\bbs-3.22-bioc\R\bin\R.exe CMD INSTALL --build --library=OncoScore.buildbin-libdir OncoScore_1.37.0.tar.gz StartedAt: 2025-08-15 10:53:01 -0400 (Fri, 15 Aug 2025) EndedAt: 2025-08-15 10:53:33 -0400 (Fri, 15 Aug 2025) EllapsedTime: 31.9 seconds RetCode: 0 Status: OK PackageFile: OncoScore_1.37.0.zip PackageFileSize: 714.2 KiB