Package: OncoScore Version: 1.38.0 Command: /home/biocbuild/bbs-3.22-bioc/R/bin/R CMD check --install=check:OncoScore.install-out.txt --library=/home/biocbuild/bbs-3.22-bioc/R/site-library --timings OncoScore_1.38.0.tar.gz StartedAt: 2025-11-14 02:24:07 -0500 (Fri, 14 Nov 2025) EndedAt: 2025-11-14 02:26:27 -0500 (Fri, 14 Nov 2025) EllapsedTime: 140.2 seconds RetCode: 0 Status: OK CheckDir: OncoScore.Rcheck Warnings: 0