Package: OncoScore Version: 1.38.0 Command: /home/biocbuild/bbs-3.22-bioc/R/bin/R CMD build --keep-empty-dirs --no-resave-data --md5 OncoScore StartedAt: 2025-11-11 19:12:27 -0500 (Tue, 11 Nov 2025) EndedAt: 2025-11-11 19:13:20 -0500 (Tue, 11 Nov 2025) EllapsedTime: 53.1 seconds RetCode: 0 Status: OK PackageFile: OncoScore_1.38.0.tar.gz PackageFileSize: 911 KiB