Package: OncoScore Version: 1.36.0 Command: /home/biocbuild/bbs-3.21-bioc/R/bin/R CMD INSTALL OncoScore StartedAt: 2025-10-05 15:58:09 -0400 (Sun, 05 Oct 2025) EndedAt: 2025-10-05 15:58:23 -0400 (Sun, 05 Oct 2025) EllapsedTime: 14.5 seconds RetCode: 0 Status: OK