Package: OncoScore Version: 1.36.0 Command: /Library/Frameworks/R.framework/Resources/bin/R CMD build --keep-empty-dirs --no-resave-data OncoScore StartedAt: 2025-10-13 21:15:04 -0400 (Mon, 13 Oct 2025) EndedAt: 2025-10-13 21:16:25 -0400 (Mon, 13 Oct 2025) EllapsedTime: 81.2 seconds RetCode: 0 Status: OK PackageFile: OncoScore_1.36.0.tar.gz PackageFileSize: 916.2 KiB