Package: OncoScore Version: 1.36.0 Command: /Library/Frameworks/R.framework/Resources/bin/R CMD INSTALL OncoScore StartedAt: 2025-10-06 18:36:08 -0400 (Mon, 06 Oct 2025) EndedAt: 2025-10-06 18:36:24 -0400 (Mon, 06 Oct 2025) EllapsedTime: 16.6 seconds RetCode: 0 Status: OK