Package: OncoScore Version: 1.36.0 Command: /Library/Frameworks/R.framework/Resources/bin/R CMD build --keep-empty-dirs --no-resave-data OncoScore StartedAt: 2025-10-07 06:12:49 -0400 (Tue, 07 Oct 2025) EndedAt: 2025-10-07 06:13:57 -0400 (Tue, 07 Oct 2025) EllapsedTime: 67.7 seconds RetCode: 0 Status: OK PackageFile: OncoScore_1.36.0.tar.gz PackageFileSize: 915.8 KiB